BEGIN:VCALENDAR
VERSION:2.0
PRODID:-//JCC East Bay - ECPv6.15.20//NONSGML v1.0//EN
CALSCALE:GREGORIAN
METHOD:PUBLISH
X-WR-CALNAME:JCC East Bay
X-ORIGINAL-URL:https://jcceastbay.org
X-WR-CALDESC:Events for JCC East Bay
REFRESH-INTERVAL;VALUE=DURATION:PT1H
X-Robots-Tag:noindex
X-PUBLISHED-TTL:PT1H
BEGIN:VTIMEZONE
TZID:America/Los_Angeles
BEGIN:DAYLIGHT
TZOFFSETFROM:-0800
TZOFFSETTO:-0700
TZNAME:PDT
DTSTART:20250309T100000
END:DAYLIGHT
BEGIN:STANDARD
TZOFFSETFROM:-0700
TZOFFSETTO:-0800
TZNAME:PST
DTSTART:20251102T090000
END:STANDARD
BEGIN:DAYLIGHT
TZOFFSETFROM:-0800
TZOFFSETTO:-0700
TZNAME:PDT
DTSTART:20260308T100000
END:DAYLIGHT
BEGIN:STANDARD
TZOFFSETFROM:-0700
TZOFFSETTO:-0800
TZNAME:PST
DTSTART:20261101T090000
END:STANDARD
BEGIN:DAYLIGHT
TZOFFSETFROM:-0800
TZOFFSETTO:-0700
TZNAME:PDT
DTSTART:20270314T100000
END:DAYLIGHT
BEGIN:STANDARD
TZOFFSETFROM:-0700
TZOFFSETTO:-0800
TZNAME:PST
DTSTART:20271107T090000
END:STANDARD
END:VTIMEZONE
BEGIN:VEVENT
DTSTART;TZID=America/Los_Angeles:20260422T100000
DTEND;TZID=America/Los_Angeles:20260422T130000
DTSTAMP:20260422T142544
CREATED:20240125T231552Z
LAST-MODIFIED:20240125T231552Z
UID:17768-1776852000-1776862800@jcceastbay.org
SUMMARY:Advanced Mah Jongg
DESCRIPTION:A JCC East Bay group that meets weekly on Wednesdays to play American Mah Jongg! \nThis group is for more experienced players or those wanting to sharpen their competitive edge. Join for good company\, tea\, and fierce games of Mah Jongg. Drop-ins are welcome. \nFor more information email Gravity (gravity.goldberg@jcceastbay.org).
URL:https://jcceastbay.org/events/advanced-mah-jongg/2026-04-22/
LOCATION:JCC East Bay\, 1414 Walnut Street\, Berkeley\, CA\, 94709\, United States
CATEGORIES:Jewish Life,Older Adults
ATTACH;FMTTYPE=image/png:https://jcceastbay.org/wp-content/uploads/2024/01/mahj-adv-web.png
END:VEVENT
BEGIN:VEVENT
DTSTART;TZID=America/Los_Angeles:20260422T103000
DTEND;TZID=America/Los_Angeles:20260422T113000
DTSTAMP:20260422T142544
CREATED:20240112T205051Z
LAST-MODIFIED:20240112T205051Z
UID:17681-1776853800-1776857400@jcceastbay.org
SUMMARY:Yiddish Conversation
DESCRIPTION:Join us for Yiddish Conversation!\nParticipants will take turns reading various Yiddish passages aloud – laughing at the stories together\, connecting with like-minded community members\, and keeping the art of the Yiddish language alive! \nPlease email Gravity to RSVP: gravity.goldberg@jcceastbay.org
URL:https://jcceastbay.org/events/yiddish-conversation/2026-04-22/
LOCATION:JCC East Bay\, 1414 Walnut Street\, Berkeley\, CA\, 94709\, United States
CATEGORIES:Jewish Life,Older Adults
ATTACH;FMTTYPE=image/png:https://jcceastbay.org/wp-content/uploads/2024/01/Yiddish-Conversation-web-event-1.png
END:VEVENT
BEGIN:VEVENT
DTSTART;TZID=America/Los_Angeles:20260422T173000
DTEND;TZID=America/Los_Angeles:20260422T200000
DTSTAMP:20260422T142544
CREATED:20260331T162607Z
LAST-MODIFIED:20260407T194545Z
UID:18677-1776879000-1776888000@jcceastbay.org
SUMMARY:Yom Ha'atzmaut
DESCRIPTION:Yom Ha’atzmaut: Let’s find JOY in our culture\, community\, and connections!\nCelebrate Yom Ha’atzmaut (Israel’s Independence Day) with a fun-filled and meaningful evening with your community. We’ll have Israel-themed activities for kids\, Israeli dinner from the Hummus Bodega food truck\, Hora dancing\, music from Chavurat Hazemer\, a community sing-a-long\, Leila Tov for kids\, and more! \nTo help make this event successful\, we will need the support of volunteers. Please consider signing up using this form. \nRegister here\nCost: $25/per adult\, $15/per child
URL:https://jcceastbay.org/events/yom-haatzmaut-2026/
LOCATION:CA
CATEGORIES:Arts & Culture,Family Engagement
ATTACH;FMTTYPE=image/png:https://jcceastbay.org/wp-content/uploads/2026/03/Yom-H-web-event-1.png
END:VEVENT
END:VCALENDAR