BEGIN:VCALENDAR
VERSION:2.0
PRODID:-//JCC East Bay - ECPv6.15.20//NONSGML v1.0//EN
CALSCALE:GREGORIAN
METHOD:PUBLISH
X-WR-CALNAME:JCC East Bay
X-ORIGINAL-URL:https://jcceastbay.org
X-WR-CALDESC:Events for JCC East Bay
REFRESH-INTERVAL;VALUE=DURATION:PT1H
X-Robots-Tag:noindex
X-PUBLISHED-TTL:PT1H
BEGIN:VTIMEZONE
TZID:America/Los_Angeles
BEGIN:DAYLIGHT
TZOFFSETFROM:-0800
TZOFFSETTO:-0700
TZNAME:PDT
DTSTART:20250309T100000
END:DAYLIGHT
BEGIN:STANDARD
TZOFFSETFROM:-0700
TZOFFSETTO:-0800
TZNAME:PST
DTSTART:20251102T090000
END:STANDARD
BEGIN:DAYLIGHT
TZOFFSETFROM:-0800
TZOFFSETTO:-0700
TZNAME:PDT
DTSTART:20260308T100000
END:DAYLIGHT
BEGIN:STANDARD
TZOFFSETFROM:-0700
TZOFFSETTO:-0800
TZNAME:PST
DTSTART:20261101T090000
END:STANDARD
BEGIN:DAYLIGHT
TZOFFSETFROM:-0800
TZOFFSETTO:-0700
TZNAME:PDT
DTSTART:20270314T100000
END:DAYLIGHT
BEGIN:STANDARD
TZOFFSETFROM:-0700
TZOFFSETTO:-0800
TZNAME:PST
DTSTART:20271107T090000
END:STANDARD
END:VTIMEZONE
BEGIN:VEVENT
DTSTART;TZID=America/Los_Angeles:20260311T180000
DTEND;TZID=America/Los_Angeles:20260311T190000
DTSTAMP:20260425T042032
CREATED:20260304T211707Z
LAST-MODIFIED:20260305T003645Z
UID:18419-1773252000-1773255600@jcceastbay.org
SUMMARY:Hebrew Community Talk: Superconductivity
DESCRIPTION:מוליכות על — פיסיקה קוונטית בגודל טבעי\nברוכים הבאים אל העולם המוזר של הפיסיקה הקוונטית. מהי מוליכות-על? כיצד היא יכולה להביא לפיתוח רכבות מרחפות ויישומים רפואיים מתקדמים?\nHebrew Community Talk: Superconductivity: Life-Size Quantum Physics\n(NOTE: TALK WILL BE PRESENTED IN HEBREW) \nFirst in a new series of talks where Israeli members of Madurat HaShevat share their professional expertise through engaging\, high-level lectures. \nThe kickoff program will be presented by Ella Lachman\, who holds a PhD in Condensed Matter Physics\, and who completed her postdoctoral studies at the Quantum Materials lab at UC Berkeley. \nHer talk “Superconductivity: Life-Size Quantum Physics” is designed to be accessible and interesting for a general audience. \nFree. Registration required. \nCLICK HERE TO REGISTER\nHospitality sponsored by Science Abroad
URL:https://jcceastbay.org/events/hebrew-community-talk-superconductivity/
LOCATION:JCC East Bay\, 1414 Walnut Street\, Berkeley\, CA\, 94709\, United States
CATEGORIES:Civic Engagement,Jewish Life
ATTACH;FMTTYPE=image/png:https://jcceastbay.org/wp-content/uploads/2026/03/hebrew-talk-superconductivity.png
END:VEVENT
END:VCALENDAR