BEGIN:VCALENDAR
VERSION:2.0
PRODID:-//JCC East Bay - ECPv6.15.20//NONSGML v1.0//EN
CALSCALE:GREGORIAN
METHOD:PUBLISH
X-ORIGINAL-URL:https://jcceastbay.org
X-WR-CALDESC:Events for JCC East Bay
REFRESH-INTERVAL;VALUE=DURATION:PT1H
X-Robots-Tag:noindex
X-PUBLISHED-TTL:PT1H
BEGIN:VTIMEZONE
TZID:America/Los_Angeles
BEGIN:DAYLIGHT
TZOFFSETFROM:-0800
TZOFFSETTO:-0700
TZNAME:PDT
DTSTART:20210314T100000
END:DAYLIGHT
BEGIN:STANDARD
TZOFFSETFROM:-0700
TZOFFSETTO:-0800
TZNAME:PST
DTSTART:20211107T090000
END:STANDARD
BEGIN:DAYLIGHT
TZOFFSETFROM:-0800
TZOFFSETTO:-0700
TZNAME:PDT
DTSTART:20220313T100000
END:DAYLIGHT
BEGIN:STANDARD
TZOFFSETFROM:-0700
TZOFFSETTO:-0800
TZNAME:PST
DTSTART:20221106T090000
END:STANDARD
BEGIN:DAYLIGHT
TZOFFSETFROM:-0800
TZOFFSETTO:-0700
TZNAME:PDT
DTSTART:20230312T100000
END:DAYLIGHT
BEGIN:STANDARD
TZOFFSETFROM:-0700
TZOFFSETTO:-0800
TZNAME:PST
DTSTART:20231105T090000
END:STANDARD
BEGIN:DAYLIGHT
TZOFFSETFROM:-0800
TZOFFSETTO:-0700
TZNAME:PDT
DTSTART:20240310T100000
END:DAYLIGHT
BEGIN:STANDARD
TZOFFSETFROM:-0700
TZOFFSETTO:-0800
TZNAME:PST
DTSTART:20241103T090000
END:STANDARD
END:VTIMEZONE
BEGIN:VEVENT
DTSTART;VALUE=DATE:20220912
DTEND;VALUE=DATE:20230105
DTSTAMP:20260425T070731
CREATED:20220707T204238Z
LAST-MODIFIED:20221129T193413Z
UID:8480-1662940800-1672876799@jcceastbay.org
SUMMARY:LABA East Bay Exhibit at the Osher Marin JCC: COMMENT!
DESCRIPTION:There is still time to see the LABA East Bay visual artists exhibit Comment! on display at and in partnership with Osher Marin JCC from now until January 4\, 2023. The show is accessible during Osher Marin JCC’s opening hours\, 6am-8pm (closure calendar here). \nBut wait – there’s more! \nOn December 18\, join us for a fun evening of text\, ritual\, and klezmer music to celebrate the closing of our LABA East Bay Comment! exhibit and the first night of Chanukah! Before the entire exhibit heads to the Peninsula JCC\, dive into some texts with LABA faculty and join in a creative candle lighting ritual before listening to the klezmer stylings of LABA fellows The San Francisco Yiddish Combo. \nGet your tickets here.
URL:https://jcceastbay.org/events/laba-east-bay-comment-exhibit-osher-marin/
LOCATION:Osher Marin JCC\, 200 N San Pedro Road\, San Rafael\, CA\, 94903\, United States
CATEGORIES:LABA East Bay
ATTACH;FMTTYPE=image/png:https://jcceastbay.org/wp-content/uploads/2022/07/Website-Event-Header-Eli-1024x576-17.png
END:VEVENT
BEGIN:VEVENT
DTSTART;TZID=America/Los_Angeles:20220320T160000
DTEND;TZID=America/Los_Angeles:20220320T180000
DTSTAMP:20260425T070731
CREATED:20220225T001447Z
LAST-MODIFIED:20220314T204059Z
UID:7456-1647792000-1647799200@jcceastbay.org
SUMMARY:TIPSY: Wine-Tasting and Performance Mash-Up
DESCRIPTION:It’s Adar\, the Jewish month of joy\, and LABA East Bay\, a laboratory for Jewish culture\, would very much like to bring you some joy. “When Adar enters\, joy increases.” -Talmud\, Ta’anit 29a \nJoin LABA East Bay fellows and faculty for TIPSY\, an afternoon of wine-tasting\, mini Jewish text teachings\, art\, music\, dance\, film\, and readings. You’ve had wine paired with food? Now try wine paired with art and text. We will explore the states of merriment\, spontaneity\, and disorientation – and hopefully achieve those states together. \nFeaturing:\nFILM from Ken Paul Rosenthal & Sari Gilman\nTHEATER from Jeff Raz\nART from Leah Koransky and Lauren Ari \nMUSIC from David Katz and Jennifer Ellis\nDANCE from Risa Jaroslow\nFICTION from Michael David Lukas\nTEACHINGS from Rachel Brodie\, Deena Aranoff\, and Sam Shonkoff\nWINE from Zoe Morgan of Covenant Wines \nCLICK HERE FOR TICKETS
URL:https://jcceastbay.org/events/tipsy/
LOCATION:JCC East Bay\, 1414 Walnut Street\, Berkeley\, CA\, 94709\, United States
CATEGORIES:LABA East Bay
ATTACH;FMTTYPE=image/png:https://jcceastbay.org/wp-content/uploads/2022/02/Copy-of-TIPSY-MAIN-MARKETING-IMAGE.png
END:VEVENT
END:VCALENDAR