BEGIN:VCALENDAR
VERSION:2.0
PRODID:-//JCC East Bay - ECPv6.15.20//NONSGML v1.0//EN
CALSCALE:GREGORIAN
METHOD:PUBLISH
X-WR-CALNAME:JCC East Bay
X-ORIGINAL-URL:https://jcceastbay.org
X-WR-CALDESC:Events for JCC East Bay
REFRESH-INTERVAL;VALUE=DURATION:PT1H
X-Robots-Tag:noindex
X-PUBLISHED-TTL:PT1H
BEGIN:VTIMEZONE
TZID:America/Los_Angeles
BEGIN:DAYLIGHT
TZOFFSETFROM:-0800
TZOFFSETTO:-0700
TZNAME:PDT
DTSTART:20210314T100000
END:DAYLIGHT
BEGIN:STANDARD
TZOFFSETFROM:-0700
TZOFFSETTO:-0800
TZNAME:PST
DTSTART:20211107T090000
END:STANDARD
BEGIN:DAYLIGHT
TZOFFSETFROM:-0800
TZOFFSETTO:-0700
TZNAME:PDT
DTSTART:20220313T100000
END:DAYLIGHT
BEGIN:STANDARD
TZOFFSETFROM:-0700
TZOFFSETTO:-0800
TZNAME:PST
DTSTART:20221106T090000
END:STANDARD
BEGIN:DAYLIGHT
TZOFFSETFROM:-0800
TZOFFSETTO:-0700
TZNAME:PDT
DTSTART:20230312T100000
END:DAYLIGHT
BEGIN:STANDARD
TZOFFSETFROM:-0700
TZOFFSETTO:-0800
TZNAME:PST
DTSTART:20231105T090000
END:STANDARD
END:VTIMEZONE
BEGIN:VEVENT
DTSTART;TZID=America/Los_Angeles:20220909T160000
DTEND;TZID=America/Los_Angeles:20220909T160000
DTSTAMP:20260425T070721
CREATED:20220705T222044Z
LAST-MODIFIED:20220818T222703Z
UID:8455-1662739200-1662739200@jcceastbay.org
SUMMARY:Movie\, Nosh\, Discuss
DESCRIPTION:Our first film series of the year is back! Join us as we dive into the epic saga of Obi-Wan Kenobi – whether you’re a first-timer joining the galaxy far\, far away or can recite every Jedi by name and rank\, everyone is welcome! After the film\, teens are welcome to join in group discussions over snacks. \nPlease note that registration is required and all teens must provide proof of vaccine prior to entering and remain masked. Light refreshments* will be provided and consumed outside. We recommend warm layers and a reusable thermos to fill up on hot beverages post-film. \nClick here for registration. \nQuestions? Please reach out to Brianna Sommer\, Director of Youth & Teen Programs at briannas@jcceastbay.org! \nCOVID Guidelines\n1) All JCC staff are fully vaccinated (including boosters).\n2) All attendees will have to show proof of vaccination (including boosters\, if eligible) prior to entering.\n3) Proof of vaccination required for those 5 years of age or older at the door.\n4) Well-fitting masks are required indoors\, masks are optional outdoors.\n5) Please be mindful of social distancing. \n*All food provided will be vegetarian. Please email our Director of Youth & Teen Programs Brianna with any food allergies or dietary restrictions.
URL:https://jcceastbay.org/events/movie-nosh-discuss-sept/
LOCATION:JCC East Bay\, 1414 Walnut Street\, Berkeley\, CA\, 94709\, United States
CATEGORIES:Youth & Teens
ATTACH;FMTTYPE=image/png:https://jcceastbay.org/wp-content/uploads/2022/07/Website-Event-Header-Eli-1024x576-13.png
END:VEVENT
END:VCALENDAR