BEGIN:VCALENDAR
VERSION:2.0
PRODID:-//JCC East Bay - ECPv6.15.20//NONSGML v1.0//EN
CALSCALE:GREGORIAN
METHOD:PUBLISH
X-ORIGINAL-URL:https://jcceastbay.org
X-WR-CALDESC:Events for JCC East Bay
REFRESH-INTERVAL;VALUE=DURATION:PT1H
X-Robots-Tag:noindex
X-PUBLISHED-TTL:PT1H
BEGIN:VTIMEZONE
TZID:America/Los_Angeles
BEGIN:DAYLIGHT
TZOFFSETFROM:-0800
TZOFFSETTO:-0700
TZNAME:PDT
DTSTART:20210314T100000
END:DAYLIGHT
BEGIN:STANDARD
TZOFFSETFROM:-0700
TZOFFSETTO:-0800
TZNAME:PST
DTSTART:20211107T090000
END:STANDARD
BEGIN:DAYLIGHT
TZOFFSETFROM:-0800
TZOFFSETTO:-0700
TZNAME:PDT
DTSTART:20220313T100000
END:DAYLIGHT
BEGIN:STANDARD
TZOFFSETFROM:-0700
TZOFFSETTO:-0800
TZNAME:PST
DTSTART:20221106T090000
END:STANDARD
BEGIN:DAYLIGHT
TZOFFSETFROM:-0800
TZOFFSETTO:-0700
TZNAME:PDT
DTSTART:20230312T100000
END:DAYLIGHT
BEGIN:STANDARD
TZOFFSETFROM:-0700
TZOFFSETTO:-0800
TZNAME:PST
DTSTART:20231105T090000
END:STANDARD
END:VTIMEZONE
BEGIN:VEVENT
DTSTART;TZID=America/Los_Angeles:20221209T160000
DTEND;TZID=America/Los_Angeles:20221209T180000
DTSTAMP:20260425T034204
CREATED:20221024T183653Z
LAST-MODIFIED:20221130T180827Z
UID:9078-1670601600-1670608800@jcceastbay.org
SUMMARY:Movie\, Nosh\, Discuss!
DESCRIPTION:Join us as we end the epic saga of Obi-Wan Kenobi – whether you’re a first-timer joining the galaxy far\, far away or can recite every Jedi by name and rank\, everyone is welcome! After watching Part IV & Part V\, teens are welcome to join in group discussion over snacks. Register here.
URL:https://jcceastbay.org/events/movie-nosh-discuss/
CATEGORIES:Youth & Teens
ATTACH;FMTTYPE=image/png:https://jcceastbay.org/wp-content/uploads/2022/10/Brianna_Teen-Movie-Night_Eventbrite-Header.png
END:VEVENT
END:VCALENDAR