BEGIN:VCALENDAR
VERSION:2.0
PRODID:-//JCC East Bay - ECPv6.15.20//NONSGML v1.0//EN
CALSCALE:GREGORIAN
METHOD:PUBLISH
X-ORIGINAL-URL:https://jcceastbay.org
X-WR-CALDESC:Events for JCC East Bay
REFRESH-INTERVAL;VALUE=DURATION:PT1H
X-Robots-Tag:noindex
X-PUBLISHED-TTL:PT1H
BEGIN:VTIMEZONE
TZID:America/Los_Angeles
BEGIN:DAYLIGHT
TZOFFSETFROM:-0800
TZOFFSETTO:-0700
TZNAME:PDT
DTSTART:20220313T100000
END:DAYLIGHT
BEGIN:STANDARD
TZOFFSETFROM:-0700
TZOFFSETTO:-0800
TZNAME:PST
DTSTART:20221106T090000
END:STANDARD
BEGIN:DAYLIGHT
TZOFFSETFROM:-0800
TZOFFSETTO:-0700
TZNAME:PDT
DTSTART:20230312T100000
END:DAYLIGHT
BEGIN:STANDARD
TZOFFSETFROM:-0700
TZOFFSETTO:-0800
TZNAME:PST
DTSTART:20231105T090000
END:STANDARD
BEGIN:DAYLIGHT
TZOFFSETFROM:-0800
TZOFFSETTO:-0700
TZNAME:PDT
DTSTART:20240310T100000
END:DAYLIGHT
BEGIN:STANDARD
TZOFFSETFROM:-0700
TZOFFSETTO:-0800
TZNAME:PST
DTSTART:20241103T090000
END:STANDARD
END:VTIMEZONE
BEGIN:VEVENT
DTSTART;TZID=America/Los_Angeles:20230521T160000
DTEND;TZID=America/Los_Angeles:20230521T160000
DTSTAMP:20260424T210718
CREATED:20220705T223713Z
LAST-MODIFIED:20230430T004429Z
UID:8470-1684684800-1684684800@jcceastbay.org
SUMMARY:Movie\, Nosh\, Discuss
DESCRIPTION:Swifties rejoice! We’re closing out our year of teen films with the Taylor Swift documentary\, Miss Americana\, which covers a transformational year of the iconic pop artists’s life. After the film\, teens are welcome to join in the group discussions over snacks. \n*All food provided will be vegetarian. Please email our Director of Youth & Teen Programs Brianna with any food allergies or dietary restrictions.
URL:https://jcceastbay.org/events/movie-nosh-discuss-april/
LOCATION:JCC East Bay\, 1414 Walnut Street\, Berkeley\, CA\, 94709\, United States
CATEGORIES:Youth & Teens
ATTACH;FMTTYPE=image/png:https://jcceastbay.org/wp-content/uploads/2022/07/Miss-Americana-1.png
END:VEVENT
BEGIN:VEVENT
DTSTART;TZID=America/Los_Angeles:20230521T173000
DTEND;TZID=America/Los_Angeles:20230521T173000
DTSTAMP:20260424T210718
CREATED:20230430T004803Z
LAST-MODIFIED:20230430T004803Z
UID:10417-1684690200-1684690200@jcceastbay.org
SUMMARY:Teen Dodgeball Tournament
DESCRIPTION:Dodgeball is back and only time will tell which team will be victorious! Teens can register individually or as a team of five for this bracket-style tournament and test their grit\, stamina\, and warrior-like courage. First time playing dodgeball? No worries! We’ll teach you how to play. Winning teams will receive special prizes.
URL:https://jcceastbay.org/events/teen-dodgeball-tournament/
CATEGORIES:Youth & Teens
ATTACH;FMTTYPE=image/png:https://jcceastbay.org/wp-content/uploads/2023/04/Dodgeball-Tournament.png
END:VEVENT
END:VCALENDAR