BEGIN:VCALENDAR
VERSION:2.0
PRODID:-//JCC East Bay - ECPv6.15.20//NONSGML v1.0//EN
CALSCALE:GREGORIAN
METHOD:PUBLISH
X-ORIGINAL-URL:https://jcceastbay.org
X-WR-CALDESC:Events for JCC East Bay
REFRESH-INTERVAL;VALUE=DURATION:PT1H
X-Robots-Tag:noindex
X-PUBLISHED-TTL:PT1H
BEGIN:VTIMEZONE
TZID:America/Los_Angeles
BEGIN:DAYLIGHT
TZOFFSETFROM:-0800
TZOFFSETTO:-0700
TZNAME:PDT
DTSTART:20230312T100000
END:DAYLIGHT
BEGIN:STANDARD
TZOFFSETFROM:-0700
TZOFFSETTO:-0800
TZNAME:PST
DTSTART:20231105T090000
END:STANDARD
BEGIN:DAYLIGHT
TZOFFSETFROM:-0800
TZOFFSETTO:-0700
TZNAME:PDT
DTSTART:20240310T100000
END:DAYLIGHT
BEGIN:STANDARD
TZOFFSETFROM:-0700
TZOFFSETTO:-0800
TZNAME:PST
DTSTART:20241103T090000
END:STANDARD
BEGIN:DAYLIGHT
TZOFFSETFROM:-0800
TZOFFSETTO:-0700
TZNAME:PDT
DTSTART:20250309T100000
END:DAYLIGHT
BEGIN:STANDARD
TZOFFSETFROM:-0700
TZOFFSETTO:-0800
TZNAME:PST
DTSTART:20251102T090000
END:STANDARD
END:VTIMEZONE
BEGIN:VEVENT
DTSTART;TZID=America/Los_Angeles:20241115T080000
DTEND;TZID=America/Los_Angeles:20241220T170000
DTSTAMP:20260420T003719
CREATED:20241107T192119Z
LAST-MODIFIED:20241219T215447Z
UID:14812-1731657600-1734714000@jcceastbay.org
SUMMARY:Hygiene Drive
DESCRIPTION:Tzedakah and Tikkun Olam at the JCC East Bay!\nThis winter\, we are partnering with Jewish Family & Community Services of the East Bay for a donation drive. Community members are invited to donate new and unopened hygiene products: \n\nToothpaste\nToothbrushes\nFloss\nBar soap\nDeodorant\nShampoo\nConditioner\nRazors\nHand soap\n\nDrop-off bins are located in the JCC East Bay lobby. Your generous donations will be shared with refugees who have recently relocated to the East Bay through JFCS’s Refugee Resettlement Program. Thank you for supporting refugees in the East Bay! \n  \nQuestions about the product drive?\nPlease email Noah: noah.curtisgoldstein@jcceastbay.org
URL:https://jcceastbay.org/events/hygiene-drive/
LOCATION:JCC East Bay\, 1414 Walnut Street\, Berkeley\, CA\, 94709\, United States
CATEGORIES:Family Engagement,Older Adults,Youth & Teens
ATTACH;FMTTYPE=image/png:https://jcceastbay.org/wp-content/uploads/2024/11/Hygiene-drive-web-event-2.png
END:VEVENT
END:VCALENDAR