BEGIN:VCALENDAR
VERSION:2.0
PRODID:-//JCC East Bay - ECPv6.15.20//NONSGML v1.0//EN
CALSCALE:GREGORIAN
METHOD:PUBLISH
X-WR-CALNAME:JCC East Bay
X-ORIGINAL-URL:https://jcceastbay.org
X-WR-CALDESC:Events for JCC East Bay
REFRESH-INTERVAL;VALUE=DURATION:PT1H
X-Robots-Tag:noindex
X-PUBLISHED-TTL:PT1H
BEGIN:VTIMEZONE
TZID:America/Los_Angeles
BEGIN:DAYLIGHT
TZOFFSETFROM:-0800
TZOFFSETTO:-0700
TZNAME:PDT
DTSTART:20240310T100000
END:DAYLIGHT
BEGIN:STANDARD
TZOFFSETFROM:-0700
TZOFFSETTO:-0800
TZNAME:PST
DTSTART:20241103T090000
END:STANDARD
BEGIN:DAYLIGHT
TZOFFSETFROM:-0800
TZOFFSETTO:-0700
TZNAME:PDT
DTSTART:20250309T100000
END:DAYLIGHT
BEGIN:STANDARD
TZOFFSETFROM:-0700
TZOFFSETTO:-0800
TZNAME:PST
DTSTART:20251102T090000
END:STANDARD
BEGIN:DAYLIGHT
TZOFFSETFROM:-0800
TZOFFSETTO:-0700
TZNAME:PDT
DTSTART:20260308T100000
END:DAYLIGHT
BEGIN:STANDARD
TZOFFSETFROM:-0700
TZOFFSETTO:-0800
TZNAME:PST
DTSTART:20261101T090000
END:STANDARD
END:VTIMEZONE
BEGIN:VEVENT
DTSTART;TZID=America/Los_Angeles:20250309T090000
DTEND;TZID=America/Los_Angeles:20250309T110000
DTSTAMP:20260419T183016
CREATED:20250205T194042Z
LAST-MODIFIED:20250205T194042Z
UID:16039-1741510800-1741518000@jcceastbay.org
SUMMARY:Israel One2One
DESCRIPTION:Israel One2One is an exciting opportunity for East Bay high schoolers (grades 9-12) to connect with their peers in Israel. This virtual mifgash (exchange) program pairs Israeli and American teens together for a series of virtual conversations.  \nOne2One is an opportunity for teens from across the world to form bonds and connect with each other. Participants meet over Zoom to connect with their Israeli counterpart. The program provides helpful conversation starters\, but teens are welcome to take their calls in any direction they wish. Learn more here about Israel One2One here. \n___________________________ \nOne2One connections will meet on Sundays in March-April:\nMarch 9\, March 16\, March 23\, March 30\, April 6\n \nConversation slots are available at 9am and 10am. \n___________________________ \nRegister here.\nThis program is run in partnership with EnterPeoplehood.
URL:https://jcceastbay.org/events/israel-one2one/
CATEGORIES:Youth & Teens
ATTACH;FMTTYPE=image/png:https://jcceastbay.org/wp-content/uploads/2025/02/One2One-web-event.png
END:VEVENT
BEGIN:VEVENT
DTSTART;TZID=America/Los_Angeles:20250313T210000
DTEND;TZID=America/Los_Angeles:20250313T223000
DTSTAMP:20260419T183016
CREATED:20250305T181141Z
LAST-MODIFIED:20250305T181227Z
UID:16111-1741899600-1741905000@jcceastbay.org
SUMMARY:Silent Disco: Teen Purim Party
DESCRIPTION:Join the JCC East Bay Midrasha and EBUSY at Congregation Netivot Shalom for a Silent Disco Purim Party!  \nGet ready for dancing\, party games\, ice cream\, and a Purim celebration. Teen leaders have worked hard to put together the Purim event of their dreams\, and they are excited to share it with their peers!  \n  \nThis event is open to teens in grades 8-12. \nRegistration is not required\, and participation is free!
URL:https://jcceastbay.org/events/silent-disco/
LOCATION:Congregation Netivot Shalom\, 1316 University Ave\, Berkeley
CATEGORIES:HOLIDAY,Youth & Teens
ATTACH;FMTTYPE=image/png:https://jcceastbay.org/wp-content/uploads/2025/03/Midrasha-Purim-web-event.png
END:VEVENT
BEGIN:VEVENT
DTSTART;TZID=America/Los_Angeles:20250325T183000
DTEND;TZID=America/Los_Angeles:20250325T194500
DTSTAMP:20260419T183016
CREATED:20250224T213456Z
LAST-MODIFIED:20250314T144716Z
UID:16070-1742927400-1742931900@jcceastbay.org
SUMMARY:I Am Not Afraid: Holocaust Education for Teens and Parents
DESCRIPTION:Join the JCC East Bay\, Congregation Netivot Shalom\, and the JFCS Holocaust Center for an evening of Holocaust education and remembrance. This event is for teens and their parents. \nI Am Not Afraid will begin with a screening of A Great Big Secret\, an animated Holocaust documentary directed by Yoav Potash\, followed by an interview and Q&A session with Anita\, the survivor featured in the film. \nYoav Potash is an award-winning writer\, director\, and producer. He produced and directed the Sundance premiere documentary Crime After Crime\, a New York Times Critics’ Pick and winner of 25 honors\, including a Robert F. Kennedy Journalism Award\, the National Board of Review Freedom of Expression Award\, and six audience awards. Yoav also directed Food Stamped\, winner of SF IndieFest’s Jury Prize\, and he recently produced and directed the feature documentary film Among Neighbors\, which won the Special Award at the Warsaw Jewish Film Festival and the Envision Award from the Jewish Film Institute. \nA Great Big Secret blends interviews\, archival footage and hand-drawn animation to tell the story of a Holocaust survivor. Born in the Netherlands\, Anita was a hidden child whose story was likewise hidden for decades. Anita shares a powerful message about the importance of remembrance and the strength of embracing our Jewish culture and identity in the face of rising antisemitism. We are deeply honored to host her for an open dialogue with our community. \nAs part of their preparation\, students enrolled in Netivot Shalom and JCC East Bay teen programs will engage in Holocaust Education lessons led by their teachers ahead of the event. \nThis event is the first in a two-part series of Holocaust remembrance programs for teens and parents being offered at the JCC East Bay. \nRegister here.\n 
URL:https://jcceastbay.org/events/i-am-not-afraid/
LOCATION:JCC East Bay\, 1414 Walnut Street\, Berkeley\, CA\, 94709\, United States
CATEGORIES:Youth & Teens
ATTACH;FMTTYPE=image/png:https://jcceastbay.org/wp-content/uploads/2025/02/I-Am-Not-Afraid-web-event-1.png
END:VEVENT
END:VCALENDAR