BEGIN:VCALENDAR
VERSION:2.0
PRODID:-//JCC East Bay - ECPv6.15.20//NONSGML v1.0//EN
CALSCALE:GREGORIAN
METHOD:PUBLISH
X-ORIGINAL-URL:https://jcceastbay.org
X-WR-CALDESC:Events for JCC East Bay
REFRESH-INTERVAL;VALUE=DURATION:PT1H
X-Robots-Tag:noindex
X-PUBLISHED-TTL:PT1H
BEGIN:VTIMEZONE
TZID:America/Los_Angeles
BEGIN:DAYLIGHT
TZOFFSETFROM:-0800
TZOFFSETTO:-0700
TZNAME:PDT
DTSTART:20240310T100000
END:DAYLIGHT
BEGIN:STANDARD
TZOFFSETFROM:-0700
TZOFFSETTO:-0800
TZNAME:PST
DTSTART:20241103T090000
END:STANDARD
BEGIN:DAYLIGHT
TZOFFSETFROM:-0800
TZOFFSETTO:-0700
TZNAME:PDT
DTSTART:20250309T100000
END:DAYLIGHT
BEGIN:STANDARD
TZOFFSETFROM:-0700
TZOFFSETTO:-0800
TZNAME:PST
DTSTART:20251102T090000
END:STANDARD
BEGIN:DAYLIGHT
TZOFFSETFROM:-0800
TZOFFSETTO:-0700
TZNAME:PDT
DTSTART:20260308T100000
END:DAYLIGHT
BEGIN:STANDARD
TZOFFSETFROM:-0700
TZOFFSETTO:-0800
TZNAME:PST
DTSTART:20261101T090000
END:STANDARD
BEGIN:DAYLIGHT
TZOFFSETFROM:-0800
TZOFFSETTO:-0700
TZNAME:PDT
DTSTART:20270314T100000
END:DAYLIGHT
BEGIN:STANDARD
TZOFFSETFROM:-0700
TZOFFSETTO:-0800
TZNAME:PST
DTSTART:20271107T090000
END:STANDARD
END:VTIMEZONE
BEGIN:VEVENT
DTSTART;TZID=America/Los_Angeles:20250518T164500
DTEND;TZID=America/Los_Angeles:20250518T180000
DTSTAMP:20260425T093544
CREATED:20250430T190011Z
LAST-MODIFIED:20250430T190011Z
UID:16447-1747586700-1747591200@jcceastbay.org
SUMMARY:Be Mitzvah Open House
DESCRIPTION:You’re invited to join us for a taste of JCC East Bay Be Mitzvah program!\nThe Be Mitzvah journey is a meaningful time of growth\, reflection\, and learning. Finding the right community and program can be challenging\, but we’re here to help. \n__________________________________ \nJCC East Bay is excited to partner with Judaism Your Way to offer 6th – 7th graders a new Be Mitzvah program. \nThe Be Mitzvah program offers a two-year\, in-person small group learning program that guides students through this pivotal coming-of-age experience\, offering a customizable approach that prioritizes their personal connection to Judaism. This experience prepares students for a distinctive\, meaningful\, and personally curated Be Mitzvah ceremony that focuses on helping youth discover their individual identity within a Jewish context. \nThis event is designed for parents and tweens to learn more about this special program. \n__________________________________ \nRegister here.
URL:https://jcceastbay.org/events/be-mitzvah-open-house/
LOCATION:JCC East Bay\, 1414 Walnut Street\, Berkeley\, CA\, 94709\, United States
CATEGORIES:Youth & Teens
ATTACH;FMTTYPE=image/png:https://jcceastbay.org/wp-content/uploads/2025/04/Be-Mitzvah-2526-web-event.png
END:VEVENT
BEGIN:VEVENT
DTSTART;TZID=America/Los_Angeles:20260324T190000
DTEND;TZID=America/Los_Angeles:20260324T200000
DTSTAMP:20260425T093544
CREATED:20260306T195741Z
LAST-MODIFIED:20260306T195844Z
UID:18462-1774378800-1774382400@jcceastbay.org
SUMMARY:Empower Yourself Against Antisemitism on Social Media
DESCRIPTION:The JCC East Bay is partnering with the organization Fighting Online Antisemitism to present a workshop to empower teens in online spaces. \nTeens and parents will learn skills such as: \n\nBeing able to spot antisemitism online\nKnowing when to engage and when to back off to guard your mental health\nHow to report antisemitism in ways that will actually get it taken down\n\nThe workshop will go over how to report antisemitism in such a way that it gets taken seriously by social media sites. We want all participants to be able to leave the workshop with new skills in their tool belt. \nThis workshop will take place online. \nPURCHASE TICKETS HERE
URL:https://jcceastbay.org/events/empower-yourself-against-antisemitism-on-social-media/
CATEGORIES:Jewish Life,Youth & Teens
ATTACH;FMTTYPE=image/jpeg:https://jcceastbay.org/wp-content/uploads/2026/03/Empower-Yourself-Against-Antisemitism-on-Social-Media.jpg
END:VEVENT
BEGIN:VEVENT
DTSTART;TZID=America/Los_Angeles:20260415T193000
DTEND;TZID=America/Los_Angeles:20260415T203000
DTSTAMP:20260425T093544
CREATED:20260410T001225Z
LAST-MODIFIED:20260410T001225Z
UID:18776-1776281400-1776285000@jcceastbay.org
SUMMARY:B'Mitzvah Info Session
DESCRIPTION:Learn all about The B’Mitzvah Way!\nJoin us for a virtual information about The B’Mitzvah Way! The B’Mitzvah year marks the beginning of a journey—an emotional\, social\, and physical journey that our tweens\, and their families and community. \n\nWhat does it mean to become a B’Mitzvah?\nWhat does it mean to transition into adulthood?\nWhat kind of human beings do we hope our tweens will grow into—and how do they view this themselves\, and begin to live it out in the world?\n\nAt this virtual information session\, Rabbi Elizeva will provide information and answer all your questions. \nRegister here.
URL:https://jcceastbay.org/events/bmitzvah-info-session/
CATEGORIES:Youth & Teens
ATTACH;FMTTYPE=image/png:https://jcceastbay.org/wp-content/uploads/2026/04/BMitzvah-web-event.png
END:VEVENT
END:VCALENDAR